BEGIN:VCALENDAR
VERSION:2.0
PRODID:-//GFG Financial - ECPv6.15.20//NONSGML v1.0//EN
CALSCALE:GREGORIAN
METHOD:PUBLISH
X-ORIGINAL-URL:https://trustgfg.com
X-WR-CALDESC:Events for GFG Financial
REFRESH-INTERVAL;VALUE=DURATION:PT1H
X-Robots-Tag:noindex
X-PUBLISHED-TTL:PT1H
BEGIN:VTIMEZONE
TZID:America/Los_Angeles
BEGIN:DAYLIGHT
TZOFFSETFROM:-0800
TZOFFSETTO:-0700
TZNAME:PDT
DTSTART:20240310T100000
END:DAYLIGHT
BEGIN:STANDARD
TZOFFSETFROM:-0700
TZOFFSETTO:-0800
TZNAME:PST
DTSTART:20241103T090000
END:STANDARD
BEGIN:DAYLIGHT
TZOFFSETFROM:-0800
TZOFFSETTO:-0700
TZNAME:PDT
DTSTART:20250309T100000
END:DAYLIGHT
BEGIN:STANDARD
TZOFFSETFROM:-0700
TZOFFSETTO:-0800
TZNAME:PST
DTSTART:20251102T090000
END:STANDARD
BEGIN:DAYLIGHT
TZOFFSETFROM:-0800
TZOFFSETTO:-0700
TZNAME:PDT
DTSTART:20260308T100000
END:DAYLIGHT
BEGIN:STANDARD
TZOFFSETFROM:-0700
TZOFFSETTO:-0800
TZNAME:PST
DTSTART:20261101T090000
END:STANDARD
END:VTIMEZONE
BEGIN:VEVENT
DTSTART;TZID=America/Los_Angeles:20251210T120000
DTEND;TZID=America/Los_Angeles:20251210T130000
DTSTAMP:20260421T030719
CREATED:20250513T170556Z
LAST-MODIFIED:20260309T091255Z
UID:10000006-1765368000-1765371600@trustgfg.com
SUMMARY:End of Year Business Planning
DESCRIPTION:Speaker Mette Warnick
URL:https://trustgfg.com/workshop/end-of-year-business-planning/
ATTACH;FMTTYPE=image/jpeg:https://trustgfg.com/wp-content/uploads/2025/05/workshop-2025-december.jpg
LOCATION:https://us06web.zoom.us/j/87096402559?pwd=wMiRziryvqtaEms1aqNrbdlmzIZU2t.1
END:VEVENT
BEGIN:VEVENT
DTSTART;TZID=America/Los_Angeles:20251112T120000
DTEND;TZID=America/Los_Angeles:20251112T130000
DTSTAMP:20260421T030719
CREATED:20250513T170236Z
LAST-MODIFIED:20260309T091345Z
UID:10000005-1762948800-1762952400@trustgfg.com
SUMMARY:Opening a New Business
DESCRIPTION:Presenter Coke-Roth
URL:https://trustgfg.com/workshop/opening-a-new-business/
LOCATION:GFG Office\, 1305 Fowler St\, Ste 1D\, Richland\, WA\, 99352\, United States
ATTACH;FMTTYPE=image/jpeg:https://trustgfg.com/wp-content/uploads/2025/05/workshop-2025-november.jpg
END:VEVENT
BEGIN:VEVENT
DTSTART;TZID=America/Los_Angeles:20250917T120000
DTEND;TZID=America/Los_Angeles:20250917T130000
DTSTAMP:20260421T030719
CREATED:20250513T170129Z
LAST-MODIFIED:20260309T091502Z
UID:10000004-1758110400-1758114000@trustgfg.com
SUMMARY:Business Retirement Plan Options
DESCRIPTION:Speaker Nathan Burt
URL:https://trustgfg.com/workshop/business-retirement-plan-options/
LOCATION:Home Builders Association of Tri-Cities\, 10001 W Clearwater Ave\, Kennewick\, WA\, 99336\, United States
ATTACH;FMTTYPE=image/jpeg:https://trustgfg.com/wp-content/uploads/2025/05/workshop-2025-september.jpg
END:VEVENT
BEGIN:VEVENT
DTSTART;TZID=America/Los_Angeles:20250710T190000
DTEND;TZID=America/Los_Angeles:20250710T220000
DTSTAMP:20260421T030719
CREATED:20250513T165918Z
LAST-MODIFIED:20260309T091550Z
UID:10000003-1752174000-1752184800@trustgfg.com
SUMMARY:Dust Devils Game
DESCRIPTION:
URL:https://trustgfg.com/workshop/dust-devils-game/
LOCATION:Gesa Stadium\, 6200 Burden Blvd\, Pasco\, WA\, 99301\, United States
ATTACH;FMTTYPE=image/jpeg:https://trustgfg.com/wp-content/uploads/2025/05/workshop-2025-july.jpg
END:VEVENT
BEGIN:VEVENT
DTSTART;TZID=America/Los_Angeles:20250611T120000
DTEND;TZID=America/Los_Angeles:20250611T130000
DTSTAMP:20260421T030719
CREATED:20250513T165613Z
LAST-MODIFIED:20260309T091707Z
UID:10000002-1749643200-1749646800@trustgfg.com
SUMMARY:Market Update
DESCRIPTION:Speaker Mark Haynes
URL:https://trustgfg.com/workshop/market-update/
ATTACH;FMTTYPE=image/jpeg:https://trustgfg.com/wp-content/uploads/2025/05/workshop-2025-june.jpg
LOCATION:https://us06web.zoom.us/j/82966506375?pwd=yXjOl8p4RAqr18QaOGHUwu6PfC23eg.1
END:VEVENT
BEGIN:VEVENT
DTSTART;TZID=America/Los_Angeles:20250521T120000
DTEND;TZID=America/Los_Angeles:20250521T130000
DTSTAMP:20260421T030719
CREATED:20250513T165355Z
LAST-MODIFIED:20250514T214819Z
UID:10000001-1747828800-1747832400@trustgfg.com
SUMMARY:Estate Planning
DESCRIPTION:Speaker Ben Goodey
URL:https://trustgfg.com/workshop/estate-planning/
LOCATION:GFG Office\, 1305 Fowler St\, Ste 1D\, Richland\, WA\, 99352\, United States
ATTACH;FMTTYPE=image/jpeg:https://trustgfg.com/wp-content/uploads/2025/05/workshop_2025-may.jpg
END:VEVENT
END:VCALENDAR